BEGIN:VCALENDAR
VERSION:2.0
PRODID:-//hacksw/handcal//NONSGML v1.0//EN
BEGIN:VEVENT
DTSTART:20260518
DTEND:20260519
LOCATION:ccpaysniederbronn
SUMMARY:Conseil communautaire
DESCRIPTION:https://www.ccpaysniederbronn.fr/Agenda/Conseil-communautaire-00212.html
END:VEVENT
END:VCALENDAR