BEGIN:VCALENDAR
VERSION:2.0
PRODID:-//hacksw/handcal//NONSGML v1.0//EN
BEGIN:VEVENT
DTSTART:20251201
DTEND:20251202
LOCATION:ccpaysniederbronn
SUMMARY:Nouveauté : prise de rendez-vous en ligne pour l'Espace France Services
DESCRIPTION:https://www.ccpaysniederbronn.fr/Actus/Nouveaute-prise-rendez-vous-en-ligne-pour-Espace-France-Services-00327.html
END:VEVENT
END:VCALENDAR